BEGIN:VCALENDAR
VERSION:2.0
PRODID:-//Capital Collegiate Prep - ECPv5.16.4//NONSGML v1.0//EN
CALSCALE:GREGORIAN
METHOD:PUBLISH
X-WR-CALNAME:Capital Collegiate Prep
X-ORIGINAL-URL:https://capcollprep.org
X-WR-CALDESC:Events for Capital Collegiate Prep
BEGIN:VTIMEZONE
TZID:America/New_York
BEGIN:DAYLIGHT
TZOFFSETFROM:-0500
TZOFFSETTO:-0400
TZNAME:EDT
DTSTART:20200308T070000
END:DAYLIGHT
BEGIN:STANDARD
TZOFFSETFROM:-0400
TZOFFSETTO:-0500
TZNAME:EST
DTSTART:20201101T060000
END:STANDARD
BEGIN:DAYLIGHT
TZOFFSETFROM:-0500
TZOFFSETTO:-0400
TZNAME:EDT
DTSTART:20210314T070000
END:DAYLIGHT
BEGIN:STANDARD
TZOFFSETFROM:-0400
TZOFFSETTO:-0500
TZNAME:EST
DTSTART:20211107T060000
END:STANDARD
END:VTIMEZONE
BEGIN:VEVENT
DTSTART;VALUE=DATE:20201221
DTEND;VALUE=DATE:20210102
DTSTAMP:20260421T205328
CREATED:20200729T164513Z
LAST-MODIFIED:20200729T164513Z
UID:3166-1608508800-1609545599@capcollprep.org
SUMMARY:Winter Break
DESCRIPTION:
URL:https://capcollprep.org/event/winter-break/
CATEGORIES:Calendar Only,Prospective Families, Events, Home
END:VEVENT
END:VCALENDAR