BEGIN:VCALENDAR
VERSION:2.0
PRODID:-//Capital Collegiate Prep - ECPv5.16.4//NONSGML v1.0//EN
CALSCALE:GREGORIAN
METHOD:PUBLISH
X-WR-CALNAME:Capital Collegiate Prep
X-ORIGINAL-URL:https://capcollprep.org
X-WR-CALDESC:Events for Capital Collegiate Prep
BEGIN:VTIMEZONE
TZID:America/New_York
BEGIN:DAYLIGHT
TZOFFSETFROM:-0500
TZOFFSETTO:-0400
TZNAME:EDT
DTSTART:20220313T070000
END:DAYLIGHT
BEGIN:STANDARD
TZOFFSETFROM:-0400
TZOFFSETTO:-0500
TZNAME:EST
DTSTART:20221106T060000
END:STANDARD
END:VTIMEZONE
BEGIN:VEVENT
DTSTART;TZID=America/New_York:20221207T100000
DTEND;TZID=America/New_York:20221207T110000
DTSTAMP:20260421T193954
CREATED:20221128T210113Z
LAST-MODIFIED:20221128T210113Z
UID:6135-1670407200-1670410800@capcollprep.org
SUMMARY:Virtual Storytime with The Grinch
DESCRIPTION:Circle round for a festive read aloud of The Grinch Who Stole Christmas! \n• Ages 4-5 & Parent or Caretaker\n• Character Visit by The Grinch\n• Guided Craft (free download)\n• Learn about EK & K Registration \nRSVP Today! capcollprep.org/events/
URL:https://capcollprep.org/event/virtual-storytime-grinch/
LOCATION:Virtual
CATEGORIES:Calendar Only,Prospective Families, Events, Home
END:VEVENT
END:VCALENDAR