BEGIN:VCALENDAR
VERSION:2.0
PRODID:-//Capital Collegiate Prep - ECPv5.16.4//NONSGML v1.0//EN
CALSCALE:GREGORIAN
METHOD:PUBLISH
X-WR-CALNAME:Capital Collegiate Prep
X-ORIGINAL-URL:https://capcollprep.org
X-WR-CALDESC:Events for Capital Collegiate Prep
BEGIN:VTIMEZONE
TZID:America/New_York
BEGIN:DAYLIGHT
TZOFFSETFROM:-0500
TZOFFSETTO:-0400
TZNAME:EDT
DTSTART:20210314T070000
END:DAYLIGHT
BEGIN:STANDARD
TZOFFSETFROM:-0400
TZOFFSETTO:-0500
TZNAME:EST
DTSTART:20211107T060000
END:STANDARD
END:VTIMEZONE
BEGIN:VEVENT
DTSTART;TZID=America/New_York:20210125T190000
DTEND;TZID=America/New_York:20210125T190000
DTSTAMP:20260421T193953
CREATED:20210119T151641Z
LAST-MODIFIED:20210119T151641Z
UID:3620-1611601200-1611601200@capcollprep.org
SUMMARY:Virtual Board Meeting
DESCRIPTION:The Capital Collegiate Preparatory Academy Board will meet virtually on Monday\, January 25\, 2021 at 7:00p.m. Individuals can use the link below to join the board meeting. \nMeeting Link:\nhttps://us02web.zoom.us/j/89738603494?pwd=RDZ4MUd5anNnZVBtdWp2RU0rU1ROdz09 \nMeeting Number:\n897 3860 3494\nPasscode:\n365714 \nMore ways to join:\nYou can also dial (646) 558-8656 and enter the meeting number and passcode.
URL:https://capcollprep.org/event/virtual-board-meeting/
LOCATION:Virtual
CATEGORIES:Calendar Only,School Board
END:VEVENT
END:VCALENDAR