BEGIN:VCALENDAR
VERSION:2.0
PRODID:-//Capital Collegiate Prep - ECPv5.16.4//NONSGML v1.0//EN
CALSCALE:GREGORIAN
METHOD:PUBLISH
X-WR-CALNAME:Capital Collegiate Prep
X-ORIGINAL-URL:https://capcollprep.org
X-WR-CALDESC:Events for Capital Collegiate Prep
BEGIN:VTIMEZONE
TZID:America/New_York
BEGIN:DAYLIGHT
TZOFFSETFROM:-0500
TZOFFSETTO:-0400
TZNAME:EDT
DTSTART:20190310T070000
END:DAYLIGHT
BEGIN:STANDARD
TZOFFSETFROM:-0400
TZOFFSETTO:-0500
TZNAME:EST
DTSTART:20191103T060000
END:STANDARD
END:VTIMEZONE
BEGIN:VEVENT
DTSTART;TZID=America/New_York:20190509T170000
DTEND;TZID=America/New_York:20190509T183000
DTSTAMP:20260421T194019
CREATED:20190408T200205Z
LAST-MODIFIED:20190408T200205Z
UID:1136-1557421200-1557426600@capcollprep.org
SUMMARY:Principal Meet & Greet
DESCRIPTION:Principal Stephen Kanzlemar was recently selected to lead Capital Collegiate Preparatory Academy. Come join Principal Kanzlemar and school staff to learn about his vision and plans for the upcoming school year.  All are welcome! Meet Principal Kanzlemar\, enjoy dinner\, and enroll your scholar. PLEASE RSVP!
URL:https://capcollprep.org/event/principal-meet-greet/
LOCATION:Capital Collegiate Prep\, 1414 Gault Street\, Columbus\, OH\, 43205\, United States
CATEGORIES:Calendar Only,Prospective Families, Events, Home
GEO:39.9512849;-82.9599855
X-APPLE-STRUCTURED-LOCATION;VALUE=URI;X-ADDRESS=Capital Collegiate Prep 1414 Gault Street Columbus OH 43205 United States;X-APPLE-RADIUS=500;X-TITLE=1414 Gault Street:geo:-82.9599855,39.9512849
END:VEVENT
END:VCALENDAR