BEGIN:VCALENDAR
VERSION:2.0
PRODID:-//Capital Collegiate Prep - ECPv5.16.4//NONSGML v1.0//EN
CALSCALE:GREGORIAN
METHOD:PUBLISH
X-WR-CALNAME:Capital Collegiate Prep
X-ORIGINAL-URL:https://capcollprep.org
X-WR-CALDESC:Events for Capital Collegiate Prep
BEGIN:VTIMEZONE
TZID:America/New_York
BEGIN:DAYLIGHT
TZOFFSETFROM:-0500
TZOFFSETTO:-0400
TZNAME:EDT
DTSTART:20190310T070000
END:DAYLIGHT
BEGIN:STANDARD
TZOFFSETFROM:-0400
TZOFFSETTO:-0500
TZNAME:EST
DTSTART:20191103T060000
END:STANDARD
END:VTIMEZONE
BEGIN:VEVENT
DTSTART;TZID=America/New_York:20190415T170000
DTEND;TZID=America/New_York:20190415T183000
DTSTAMP:20260421T222438
CREATED:20190329T133444Z
LAST-MODIFIED:20190329T133444Z
UID:1110-1555347600-1555353000@capcollprep.org
SUMMARY:Parent Information Night
DESCRIPTION:During these meetings\, you will have the opportunity to meet the Principal and staff\, learn about the mission and vision of the new school\,  enjoy light refreshments\, and enroll your child for the fall!   All students that enroll will receive a Capital Collegiate Preparatory Academy uniform shirt.
URL:https://capcollprep.org/event/parent-information-night-2/
LOCATION:Capital Collegiate Prep\, 1414 Gault Street\, Columbus\, OH\, 43205\, United States
CATEGORIES:Calendar Only,Prospective Families, Events, Home
GEO:39.9512849;-82.9599855
X-APPLE-STRUCTURED-LOCATION;VALUE=URI;X-ADDRESS=Capital Collegiate Prep 1414 Gault Street Columbus OH 43205 United States;X-APPLE-RADIUS=500;X-TITLE=1414 Gault Street:geo:-82.9599855,39.9512849
END:VEVENT
END:VCALENDAR