BEGIN:VCALENDAR
VERSION:2.0
PRODID:-//Capital Collegiate Prep - ECPv5.16.4//NONSGML v1.0//EN
CALSCALE:GREGORIAN
METHOD:PUBLISH
X-WR-CALNAME:Capital Collegiate Prep
X-ORIGINAL-URL:https://capcollprep.org
X-WR-CALDESC:Events for Capital Collegiate Prep
BEGIN:VTIMEZONE
TZID:America/New_York
BEGIN:DAYLIGHT
TZOFFSETFROM:-0500
TZOFFSETTO:-0400
TZNAME:EDT
DTSTART:20200308T070000
END:DAYLIGHT
BEGIN:STANDARD
TZOFFSETFROM:-0400
TZOFFSETTO:-0500
TZNAME:EST
DTSTART:20201101T060000
END:STANDARD
END:VTIMEZONE
BEGIN:VEVENT
DTSTART;TZID=America/New_York:20200723T133000
DTEND;TZID=America/New_York:20200723T143000
DTSTAMP:20260421T210036
CREATED:20200714T191440Z
LAST-MODIFIED:20200722T192737Z
UID:2968-1595511000-1595514600@capcollprep.org
SUMMARY:Online Info Session: School Year Learning Options & Reopening
DESCRIPTION:This year ACCEL Schools is giving families a choice in learning options at Capital Collegiate Preparatory Academy. Attend our Online Information Session for important details! Families are asked to make their learning choice by Friday\, July 31st.\n20-21 School Year Learning Options & Reopening Meeting\nAt time of meeting\, log-on by visiting:\nhttps://us02web.zoom.us/j/83837158675?pwd=V0JXUG1xSnNxYXNOQ0MwbWJ5VllRdz09
URL:https://capcollprep.org/event/online-info-session-school-year-learning-options-re-opening/
CATEGORIES:Calendar Only,Prospective Families, Events, Home
END:VEVENT
END:VCALENDAR