BEGIN:VCALENDAR
VERSION:2.0
PRODID:-//Capital Collegiate Prep - ECPv5.16.4//NONSGML v1.0//EN
CALSCALE:GREGORIAN
METHOD:PUBLISH
X-WR-CALNAME:Capital Collegiate Prep
X-ORIGINAL-URL:https://capcollprep.org
X-WR-CALDESC:Events for Capital Collegiate Prep
BEGIN:VTIMEZONE
TZID:America/New_York
BEGIN:DAYLIGHT
TZOFFSETFROM:-0500
TZOFFSETTO:-0400
TZNAME:EDT
DTSTART:20200308T070000
END:DAYLIGHT
BEGIN:STANDARD
TZOFFSETFROM:-0400
TZOFFSETTO:-0500
TZNAME:EST
DTSTART:20201101T060000
END:STANDARD
END:VTIMEZONE
BEGIN:VEVENT
DTSTART;TZID=America/New_York:20200604T180000
DTEND;TZID=America/New_York:20200604T190000
DTSTAMP:20260421T194131
CREATED:20200512T193428Z
LAST-MODIFIED:20200512T193428Z
UID:2395-1591293600-1591297200@capcollprep.org
SUMMARY:Meet the Principal (Zoom Meeting)
DESCRIPTION:Join us during this live Zoom meeting to get acquainted with our new principal\, Mr. Antwan Pratt. Learn more about Capital Collegiate Prep\, take an online school tour\, and learn how to register for the upcoming school year. \n\n\n \n\n\nRSVP to receive details in advance about how to access this live meeting. Click: \n\n\nhttps://capcollprep.org/virtual-event/\n\n\n \n\n\nMr. Pratt joined Capital Collegiate Preparatory Academy as principal in 2020 with experience as an educator and businessman. He holds a Bachelor’s degree in Business Psychology from Central State University where he played collegiate football on scholarship. He additionally holds an MBA in Organizational Leadership from Ohio Dominican and will graduate this summer with a Master’s degree in Education from Ashland University. Mr. Pratt additionally coaches youth football and basketball.\n\n\n \n\n\nFamilies choose Capital Collegiate Preparatory Academy because:\n\n\n– Tuition-free\, community school open to all K-6 students\n\n\n– Full-day Kindergarten\n\n\n– Early K Program for young learners (must turn 5 by Jan. 1)\n\n\n– Free Meals & Bus Transportation daily\n\n\n– College Prep curriculum with daily use of Education Technology to advance student learning & readiness\n\n\n– Exceptional teachers\n\n\n– Safe & secure learning environment\n\n\n– Accredited by Cognia™
URL:https://capcollprep.org/event/meet-principal-zoom-meeting/
LOCATION:Virtual
CATEGORIES:Calendar Only,Prospective Families, Events, Home
END:VEVENT
END:VCALENDAR