BEGIN:VCALENDAR
VERSION:2.0
PRODID:-//Capital Collegiate Prep - ECPv5.16.4//NONSGML v1.0//EN
CALSCALE:GREGORIAN
METHOD:PUBLISH
X-WR-CALNAME:Capital Collegiate Prep
X-ORIGINAL-URL:https://capcollprep.org
X-WR-CALDESC:Events for Capital Collegiate Prep
BEGIN:VTIMEZONE
TZID:America/New_York
BEGIN:DAYLIGHT
TZOFFSETFROM:-0500
TZOFFSETTO:-0400
TZNAME:EDT
DTSTART:20210314T070000
END:DAYLIGHT
BEGIN:STANDARD
TZOFFSETFROM:-0400
TZOFFSETTO:-0500
TZNAME:EST
DTSTART:20211107T060000
END:STANDARD
END:VTIMEZONE
BEGIN:VEVENT
DTSTART;TZID=America/New_York:20210624T170000
DTEND;TZID=America/New_York:20210624T183000
DTSTAMP:20260421T210815
CREATED:20210616T143758Z
LAST-MODIFIED:20210617T162457Z
UID:4236-1624554000-1624559400@capcollprep.org
SUMMARY:Meet & Greet with Olympic Gold Medalist Butch Reynolds
DESCRIPTION:Make it an Olympic summer at Capital Collegiate Preparatory Academy! Meet Olympic Gold Medalist Butch Reynolds and learn about his experience competing in the 1988 Seoul Olympics. Join us for free ice cream and a Game Truck! \nRSVP Today! \nCurrent families\, if you haven’t yet completed the process\, please bring your Proof of Residency document to complete your re-enrollment. \nProspective families who are interested in enrollment may expedite the registration process by coming prepared with the following:\nChild’s Birth Certificate\nProof of Residence\nParent ID (for primary\, custodial parent)\nImmunization Records\nFor more information about these documents\, please visit our Enrollment Resources Page.
URL:https://capcollprep.org/event/meet-greet-olympic-gold-medalist-butch-reynolds/
LOCATION:Capital Collegiate Prep\, 1414 Gault Street\, Columbus\, OH\, 43205\, United States
CATEGORIES:Calendar Only,Prospective Families, Events, Home
GEO:39.9512849;-82.9599855
X-APPLE-STRUCTURED-LOCATION;VALUE=URI;X-ADDRESS=Capital Collegiate Prep 1414 Gault Street Columbus OH 43205 United States;X-APPLE-RADIUS=500;X-TITLE=1414 Gault Street:geo:-82.9599855,39.9512849
END:VEVENT
END:VCALENDAR