BEGIN:VCALENDAR
VERSION:2.0
PRODID:-//Capital Collegiate Prep - ECPv5.16.4//NONSGML v1.0//EN
CALSCALE:GREGORIAN
METHOD:PUBLISH
X-WR-CALNAME:Capital Collegiate Prep
X-ORIGINAL-URL:https://capcollprep.org
X-WR-CALDESC:Events for Capital Collegiate Prep
BEGIN:VTIMEZONE
TZID:America/New_York
BEGIN:DAYLIGHT
TZOFFSETFROM:-0500
TZOFFSETTO:-0400
TZNAME:EDT
DTSTART:20260308T070000
END:DAYLIGHT
BEGIN:STANDARD
TZOFFSETFROM:-0400
TZOFFSETTO:-0500
TZNAME:EST
DTSTART:20261101T060000
END:STANDARD
END:VTIMEZONE
BEGIN:VEVENT
DTSTART;VALUE=DATE:20260521
DTEND;VALUE=DATE:20260522
DTSTAMP:20260421T180736
CREATED:20250627T182315Z
LAST-MODIFIED:20250627T182315Z
UID:8538-1779321600-1779407999@capcollprep.org
SUMMARY:Last Day of School
DESCRIPTION:For All Students
URL:https://capcollprep.org/event/last-day-of-school/
LOCATION:Capital Collegiate Prep\, 1414 Gault Street\, Columbus\, OH\, 43205\, United States
CATEGORIES:Calendar Only
GEO:39.9512849;-82.9599855
X-APPLE-STRUCTURED-LOCATION;VALUE=URI;X-ADDRESS=Capital Collegiate Prep 1414 Gault Street Columbus OH 43205 United States;X-APPLE-RADIUS=500;X-TITLE=1414 Gault Street:geo:-82.9599855,39.9512849
END:VEVENT
END:VCALENDAR