BEGIN:VCALENDAR
VERSION:2.0
PRODID:-//Capital Collegiate Prep - ECPv5.16.4//NONSGML v1.0//EN
CALSCALE:GREGORIAN
METHOD:PUBLISH
X-WR-CALNAME:Capital Collegiate Prep
X-ORIGINAL-URL:https://capcollprep.org
X-WR-CALDESC:Events for Capital Collegiate Prep
BEGIN:VTIMEZONE
TZID:America/New_York
BEGIN:DAYLIGHT
TZOFFSETFROM:-0500
TZOFFSETTO:-0400
TZNAME:EDT
DTSTART:20230312T070000
END:DAYLIGHT
BEGIN:STANDARD
TZOFFSETFROM:-0400
TZOFFSETTO:-0500
TZNAME:EST
DTSTART:20231105T060000
END:STANDARD
END:VTIMEZONE
BEGIN:VEVENT
DTSTART;TZID=America/New_York:20230706T090000
DTEND;TZID=America/New_York:20230706T110000
DTSTAMP:20260421T150736
CREATED:20230623T194653Z
LAST-MODIFIED:20230630T121506Z
UID:6779-1688634000-1688641200@capcollprep.org
SUMMARY:Kindergarten Readiness Camp
DESCRIPTION:Free and open to prospective or enrolled students\, this camp will build each rising Early K and Kindergarten student’s confidence and excitement for the upcoming school year. Led by Kindergarten staff\, each day will be filled with short lessons\, music & movement\, art\, snacks\, and playtime. Space is limited and awarded on a first come\, first serve basis–sign up today! \ncapcollprep.org/summer
URL:https://capcollprep.org/event/kindergarten-readiness-camp/
LOCATION:Capital Collegiate Prep\, 1414 Gault Street\, Columbus\, OH\, 43205\, United States
CATEGORIES:Calendar Only,Prospective Families, Events, Home
GEO:39.9512849;-82.9599855
X-APPLE-STRUCTURED-LOCATION;VALUE=URI;X-ADDRESS=Capital Collegiate Prep 1414 Gault Street Columbus OH 43205 United States;X-APPLE-RADIUS=500;X-TITLE=1414 Gault Street:geo:-82.9599855,39.9512849
END:VEVENT
END:VCALENDAR