BEGIN:VCALENDAR
VERSION:2.0
PRODID:-//Capital Collegiate Prep - ECPv5.16.4//NONSGML v1.0//EN
CALSCALE:GREGORIAN
METHOD:PUBLISH
X-WR-CALNAME:Capital Collegiate Prep
X-ORIGINAL-URL:https://capcollprep.org
X-WR-CALDESC:Events for Capital Collegiate Prep
BEGIN:VTIMEZONE
TZID:America/New_York
BEGIN:DAYLIGHT
TZOFFSETFROM:-0500
TZOFFSETTO:-0400
TZNAME:EDT
DTSTART:20200308T070000
END:DAYLIGHT
BEGIN:STANDARD
TZOFFSETFROM:-0400
TZOFFSETTO:-0500
TZNAME:EST
DTSTART:20201101T060000
END:STANDARD
END:VTIMEZONE
BEGIN:VEVENT
DTSTART;TZID=America/New_York:20200302T090000
DTEND;TZID=America/New_York:20200318T150000
DTSTAMP:20260422T100708
CREATED:20200213T160333Z
LAST-MODIFIED:20200228T212536Z
UID:1439-1583139600-1584543600@capcollprep.org
SUMMARY:Open Registration Time for Kindergarten
DESCRIPTION:Join Capital Collegiate Preparatory Academy for a Kindergarten Open House! During this event\, you will have the opportunity to learn more about our free\, full-day kindergarten program\, meet the Principal & our Kindergarten teachers\, tour our school\, and visit Kindergarten classrooms. For help with registration\, come prepared with copies of your child’s birth certificate\, proof of residence\, and immunization records. This open house will be available everyday starting on Monday\, March 2\, ending on Wednesday\, March 18\, 2020. We look forward to seeing you there!
URL:https://capcollprep.org/event/kindergarten-open-house/
LOCATION:Capital Collegiate Prep\, 1414 Gault Street\, Columbus\, OH\, 43205\, United States
CATEGORIES:Calendar Only,Prospective Families, Events, Home
GEO:39.9512849;-82.9599855
X-APPLE-STRUCTURED-LOCATION;VALUE=URI;X-ADDRESS=Capital Collegiate Prep 1414 Gault Street Columbus OH 43205 United States;X-APPLE-RADIUS=500;X-TITLE=1414 Gault Street:geo:-82.9599855,39.9512849
END:VEVENT
END:VCALENDAR