BEGIN:VCALENDAR
VERSION:2.0
PRODID:-//Capital Collegiate Prep - ECPv5.16.4//NONSGML v1.0//EN
CALSCALE:GREGORIAN
METHOD:PUBLISH
X-WR-CALNAME:Capital Collegiate Prep
X-ORIGINAL-URL:https://capcollprep.org
X-WR-CALDESC:Events for Capital Collegiate Prep
BEGIN:VTIMEZONE
TZID:America/New_York
BEGIN:DAYLIGHT
TZOFFSETFROM:-0500
TZOFFSETTO:-0400
TZNAME:EDT
DTSTART:20210314T070000
END:DAYLIGHT
BEGIN:STANDARD
TZOFFSETFROM:-0400
TZOFFSETTO:-0500
TZNAME:EST
DTSTART:20211107T060000
END:STANDARD
END:VTIMEZONE
BEGIN:VEVENT
DTSTART;TZID=America/New_York:20210422T160000
DTEND;TZID=America/New_York:20210422T173000
DTSTAMP:20260421T222504
CREATED:20210414T115049Z
LAST-MODIFIED:20210414T115049Z
UID:3884-1619107200-1619112600@capcollprep.org
SUMMARY:K-7 Open House
DESCRIPTION:Join us for Open House to learn more about Capital Collegiate Prep’s Kindergarten\, elementary & middle school programs\, tour the school\, and meet Principal Pratt and staff. Free refreshments will be served. \nOur staff will be prepared to assist families with the registration process. Families can expedite registration for Early K-7th Grade by coming prepared with the following:\nChild’s Birth Certificate\nProof of Residence Parent ID (for primary\, custodial parent)\nImmunization Records\nFor more information about these documents\, please visit our Enrollment Resources page at: https://accelschools.com/enrollment-resources-ohio/
URL:https://capcollprep.org/event/k-7-open-house/
LOCATION:Capital Collegiate Prep\, 1414 Gault Street\, Columbus\, OH\, 43205\, United States
CATEGORIES:Calendar Only,Prospective Families, Events, Home
GEO:39.9512849;-82.9599855
X-APPLE-STRUCTURED-LOCATION;VALUE=URI;X-ADDRESS=Capital Collegiate Prep 1414 Gault Street Columbus OH 43205 United States;X-APPLE-RADIUS=500;X-TITLE=1414 Gault Street:geo:-82.9599855,39.9512849
END:VEVENT
END:VCALENDAR