BEGIN:VCALENDAR
VERSION:2.0
PRODID:-//Capital Collegiate Prep - ECPv5.16.4//NONSGML v1.0//EN
CALSCALE:GREGORIAN
METHOD:PUBLISH
X-WR-CALNAME:Capital Collegiate Prep
X-ORIGINAL-URL:https://capcollprep.org
X-WR-CALDESC:Events for Capital Collegiate Prep
BEGIN:VTIMEZONE
TZID:America/New_York
BEGIN:DAYLIGHT
TZOFFSETFROM:-0500
TZOFFSETTO:-0400
TZNAME:EDT
DTSTART:20210314T070000
END:DAYLIGHT
BEGIN:STANDARD
TZOFFSETFROM:-0400
TZOFFSETTO:-0500
TZNAME:EST
DTSTART:20211107T060000
END:STANDARD
END:VTIMEZONE
BEGIN:VEVENT
DTSTART;VALUE=DATE:20210601
DTEND;VALUE=DATE:20210602
DTSTAMP:20260421T221902
CREATED:20210504T154913Z
LAST-MODIFIED:20210504T154913Z
UID:4014-1622505600-1622591999@capcollprep.org
SUMMARY:Final Report Cards Distributed
DESCRIPTION:Final Report Cards distributed via mail.
URL:https://capcollprep.org/event/final-report-cards-distributed/
CATEGORIES:Calendar Only
END:VEVENT
END:VCALENDAR