BEGIN:VCALENDAR
VERSION:2.0
PRODID:-//Capital Collegiate Prep - ECPv5.16.4//NONSGML v1.0//EN
CALSCALE:GREGORIAN
METHOD:PUBLISH
X-WR-CALNAME:Capital Collegiate Prep
X-ORIGINAL-URL:https://capcollprep.org
X-WR-CALDESC:Events for Capital Collegiate Prep
BEGIN:VTIMEZONE
TZID:America/New_York
BEGIN:DAYLIGHT
TZOFFSETFROM:-0500
TZOFFSETTO:-0400
TZNAME:EDT
DTSTART:20190310T070000
END:DAYLIGHT
BEGIN:STANDARD
TZOFFSETFROM:-0400
TZOFFSETTO:-0500
TZNAME:EST
DTSTART:20191103T060000
END:STANDARD
END:VTIMEZONE
BEGIN:VEVENT
DTSTART;TZID=America/New_York:20190727T110000
DTEND;TZID=America/New_York:20190727T150000
DTSTAMP:20260421T163807
CREATED:20190708T181835Z
LAST-MODIFIED:20190708T181943Z
UID:1307-1564225200-1564239600@capcollprep.org
SUMMARY:Family Appreciation Day
DESCRIPTION:Join us for Family Appreciation Day at Capital Collegiate Preparatory Academy! Enjoy a free lunch\, game truck\, and live entertainment! School registration is required for food and game truck tickets. Come spin the wheel for a chance to win free school merchandise! At this event\, you can meet the principal and teachers that make our school so great! This event is open to everyone so bring a friend!
URL:https://capcollprep.org/event/family-appreciation-day/
LOCATION:Capital Collegiate Prep\, 1414 Gault Street\, Columbus\, OH\, 43205\, United States
CATEGORIES:Calendar Only,Prospective Families, Events, Home
GEO:39.9512849;-82.9599855
X-APPLE-STRUCTURED-LOCATION;VALUE=URI;X-ADDRESS=Capital Collegiate Prep 1414 Gault Street Columbus OH 43205 United States;X-APPLE-RADIUS=500;X-TITLE=1414 Gault Street:geo:-82.9599855,39.9512849
END:VEVENT
END:VCALENDAR