BEGIN:VCALENDAR
VERSION:2.0
PRODID:-//Capital Collegiate Prep - ECPv5.16.4//NONSGML v1.0//EN
CALSCALE:GREGORIAN
METHOD:PUBLISH
X-WR-CALNAME:Capital Collegiate Prep
X-ORIGINAL-URL:https://capcollprep.org
X-WR-CALDESC:Events for Capital Collegiate Prep
BEGIN:VTIMEZONE
TZID:America/New_York
BEGIN:DAYLIGHT
TZOFFSETFROM:-0500
TZOFFSETTO:-0400
TZNAME:EDT
DTSTART:20250309T070000
END:DAYLIGHT
BEGIN:STANDARD
TZOFFSETFROM:-0400
TZOFFSETTO:-0500
TZNAME:EST
DTSTART:20251102T060000
END:STANDARD
END:VTIMEZONE
BEGIN:VEVENT
DTSTART;TZID=America/New_York:20250630T173000
DTEND;TZID=America/New_York:20250630T173000
DTSTAMP:20260421T134357
CREATED:20240702T174759Z
LAST-MODIFIED:20250620T203228Z
UID:8126-1751304600-1751304600@capcollprep.org
SUMMARY:Board Meeting
DESCRIPTION:Notice of Meeting Change \nThe Governing Authority of Capital Collegiate Preparatory Academy Stakeholders meeting scheduled for June 23\, 2025\, has been rescheduled to Monday\, June 30\, 2025\, 5:30 p.m. at Capital Collegiate Preparatory Academy\, 1414 Gault Street\, Columbus\, OH 43205. \nThis change is due to both the President and Vice President unable to attend.
URL:https://capcollprep.org/event/board-meeting-66/
LOCATION:Capital Collegiate Prep\, 1414 Gault Street\, Columbus\, OH\, 43205\, United States
CATEGORIES:Calendar Only,School Board
GEO:39.9512849;-82.9599855
X-APPLE-STRUCTURED-LOCATION;VALUE=URI;X-ADDRESS=Capital Collegiate Prep 1414 Gault Street Columbus OH 43205 United States;X-APPLE-RADIUS=500;X-TITLE=1414 Gault Street:geo:-82.9599855,39.9512849
END:VEVENT
END:VCALENDAR