BEGIN:VCALENDAR
VERSION:2.0
PRODID:-//Capital Collegiate Prep - ECPv5.16.4//NONSGML v1.0//EN
CALSCALE:GREGORIAN
METHOD:PUBLISH
X-WR-CALNAME:Capital Collegiate Prep
X-ORIGINAL-URL:https://capcollprep.org
X-WR-CALDESC:Events for Capital Collegiate Prep
BEGIN:VTIMEZONE
TZID:America/New_York
BEGIN:DAYLIGHT
TZOFFSETFROM:-0500
TZOFFSETTO:-0400
TZNAME:EDT
DTSTART:20230312T070000
END:DAYLIGHT
BEGIN:STANDARD
TZOFFSETFROM:-0400
TZOFFSETTO:-0500
TZNAME:EST
DTSTART:20231105T060000
END:STANDARD
END:VTIMEZONE
BEGIN:VEVENT
DTSTART;TZID=America/New_York:20230313T180000
DTEND;TZID=America/New_York:20230313T180000
DTSTAMP:20260421T163018
CREATED:20220726T175024Z
LAST-MODIFIED:20220726T175024Z
UID:5813-1678730400-1678730400@capcollprep.org
SUMMARY:Board Meeting
DESCRIPTION:
URL:https://capcollprep.org/event/board-meeting-37/
LOCATION:Driving Park Community Center\, 1100 Rhoads Ave\, Columbus\, OH\, 43206
CATEGORIES:Calendar Only,School Board
GEO:39.9442925;-82.949661
X-APPLE-STRUCTURED-LOCATION;VALUE=URI;X-ADDRESS=Driving Park Community Center 1100 Rhoads Ave Columbus OH 43206;X-APPLE-RADIUS=500;X-TITLE=1100 Rhoads Ave:geo:-82.949661,39.9442925
END:VEVENT
END:VCALENDAR