BEGIN:VCALENDAR
VERSION:2.0
PRODID:-//Capital Collegiate Prep - ECPv5.16.4//NONSGML v1.0//EN
CALSCALE:GREGORIAN
METHOD:PUBLISH
X-WR-CALNAME:Capital Collegiate Prep
X-ORIGINAL-URL:https://capcollprep.org
X-WR-CALDESC:Events for Capital Collegiate Prep
BEGIN:VTIMEZONE
TZID:America/New_York
BEGIN:DAYLIGHT
TZOFFSETFROM:-0500
TZOFFSETTO:-0400
TZNAME:EDT
DTSTART:20220313T070000
END:DAYLIGHT
BEGIN:STANDARD
TZOFFSETFROM:-0400
TZOFFSETTO:-0500
TZNAME:EST
DTSTART:20221106T060000
END:STANDARD
END:VTIMEZONE
BEGIN:VEVENT
DTSTART;TZID=America/New_York:20220816T170000
DTEND;TZID=America/New_York:20220816T190000
DTSTAMP:20260421T205738
CREATED:20220722T182827Z
LAST-MODIFIED:20220722T182827Z
UID:5732-1660669200-1660676400@capcollprep.org
SUMMARY:Back to School Bash
DESCRIPTION:Welcome back Tigers for another great year! Join us for our Back to School Bash with FREE Whits Custard Ice Cream\, haircuts\, a Game Truck\, and more. RSVP for raffle prizes including school supply packs. We can’t wait to kick off the 2022-23 school year! \nRSVP Today: capcollprep.org/events \nReady to enroll? Be prepared with the following documents: \n\n Child’s Birth Certificate\n Proof of Residence\n Parent ID (for primary\, custodial parent) \nImmunization Records\n\n For more information about these documents\, please visit our Enrollment Resources page at: https://accelschools.com/enrollment-resources-ohio/
URL:https://capcollprep.org/event/back-school-bash-2/
LOCATION:Capital Collegiate Prep\, 1414 Gault Street\, Columbus\, OH\, 43205\, United States
CATEGORIES:Calendar Only,Prospective Families, Events, Home
GEO:39.9512849;-82.9599855
X-APPLE-STRUCTURED-LOCATION;VALUE=URI;X-ADDRESS=Capital Collegiate Prep 1414 Gault Street Columbus OH 43205 United States;X-APPLE-RADIUS=500;X-TITLE=1414 Gault Street:geo:-82.9599855,39.9512849
END:VEVENT
END:VCALENDAR