BEGIN:VCALENDAR
VERSION:2.0
PRODID:-//Capital Collegiate Prep - ECPv5.16.4//NONSGML v1.0//EN
CALSCALE:GREGORIAN
METHOD:PUBLISH
X-WR-CALNAME:Capital Collegiate Prep
X-ORIGINAL-URL:https://capcollprep.org
X-WR-CALDESC:Events for Capital Collegiate Prep
BEGIN:VTIMEZONE
TZID:America/New_York
BEGIN:DAYLIGHT
TZOFFSETFROM:-0500
TZOFFSETTO:-0400
TZNAME:EDT
DTSTART:20250309T070000
END:DAYLIGHT
BEGIN:STANDARD
TZOFFSETFROM:-0400
TZOFFSETTO:-0500
TZNAME:EST
DTSTART:20251102T060000
END:STANDARD
END:VTIMEZONE
BEGIN:VEVENT
DTSTART;TZID=America/New_York:20251015T180000
DTEND;TZID=America/New_York:20251015T180000
DTSTAMP:20260421T220002
CREATED:20251008T151447Z
LAST-MODIFIED:20251008T151701Z
UID:8617-1760551200-1760551200@capcollprep.org
SUMMARY:Board Meeting
DESCRIPTION:NOTICE OF MEETING CHANGE \nNotice of Meeting Change \nThe Governing Authority of Capital Collegiate Preparatory Academy Board of Directors General Meeting will be held at 6:00 p.m. at 270 Glenwood Ave\, Columbus\, Ohio 43223 on Wednesday\, October 15\, 2025.  \n  \nThis meeting date change is due to Indigenous People Day being observed on Monday\, October 13\, 2025.
URL:https://capcollprep.org/event/board-meeting-78/
LOCATION:270 Glenwood Ave\, 270 Glenwood Ave\, Columbus\, OH\, 43223\, United States
CATEGORIES:School Board
GEO:39.9532075;-83.029137
X-APPLE-STRUCTURED-LOCATION;VALUE=URI;X-ADDRESS=270 Glenwood Ave 270 Glenwood Ave Columbus OH 43223 United States;X-APPLE-RADIUS=500;X-TITLE=270 Glenwood Ave:geo:-83.029137,39.9532075
END:VEVENT
END:VCALENDAR